BEGIN:VCALENDAR
VERSION:2.0
PRODID:-//University of Houston - EXN Program - ECPv6.0.11//NONSGML v1.0//EN
CALSCALE:GREGORIAN
METHOD:PUBLISH
X-WR-CALNAME:University of Houston - EXN Program
X-ORIGINAL-URL:https://www.exnscattering.uh.edu
X-WR-CALDESC:Events for University of Houston - EXN Program
REFRESH-INTERVAL;VALUE=DURATION:PT1H
X-Robots-Tag:noindex
X-PUBLISHED-TTL:PT1H
BEGIN:VTIMEZONE
TZID:UTC
BEGIN:STANDARD
TZOFFSETFROM:+0000
TZOFFSETTO:+0000
TZNAME:UTC
DTSTART:20240101T000000
END:STANDARD
END:VTIMEZONE
BEGIN:VEVENT
DTSTART;TZID=UTC:20241002T130000
DTEND;TZID=UTC:20261002T140000
DTSTAMP:20260420T055632
CREATED:20220304T060600Z
LAST-MODIFIED:20260415T055021Z
UID:1918-1727874000-1790949600@www.exnscattering.uh.edu
SUMMARY:eXn Group Meeting
DESCRIPTION:
URL:https://www.exnscattering.uh.edu/event/exn-group-meeting/
ATTACH;FMTTYPE=image/png:https://www.exnscattering.uh.edu/wp-content/uploads/2022/02/Placement-Area-ASSETsmallSIZEDefaultSTATEDEFAULT.png
END:VEVENT
BEGIN:VEVENT
DTSTART;VALUE=DATE:20241003
DTEND;VALUE=DATE:20261004
DTSTAMP:20260420T055632
CREATED:20220304T060446Z
LAST-MODIFIED:20260415T055043Z
UID:1913-1727913600-1791071999@www.exnscattering.uh.edu
SUMMARY:Physics Dept Colloquium
DESCRIPTION:
URL:https://www.exnscattering.uh.edu/event/physics-dept-colloquium/
ATTACH;FMTTYPE=image/png:https://www.exnscattering.uh.edu/wp-content/uploads/2022/02/Placement-Area-ASSETsmallSIZEDefaultSTATEDEFAULT.png
END:VEVENT
BEGIN:VEVENT
DTSTART;TZID=UTC:20241003T220000
DTEND;TZID=UTC:20261003T230000
DTSTAMP:20260420T055632
CREATED:20220304T060536Z
LAST-MODIFIED:20260415T054851Z
UID:1916-1727992800-1791068400@www.exnscattering.uh.edu
SUMMARY:eXn Journal Club
DESCRIPTION:
URL:https://www.exnscattering.uh.edu/event/exn-journal-club/
ATTACH;FMTTYPE=image/png:https://www.exnscattering.uh.edu/wp-content/uploads/2022/02/Placement-Area-ASSETsmallSIZEDefaultSTATEDEFAULT.png
END:VEVENT
END:VCALENDAR